Workbook

Sheet TLI
A1: TLI - 2011 MPB Update
A2: Area (ha) of MPB Attack Severity by Age Class and Density within Pine Stands (Pine Species >= 30% density - The Pine Mask)
A3: TSA Area | B3: 1125025
A4: Pine Mask Unharvested Area | B4: =SUM(data!D2:D200) -> 314769.1
A6: MPB Attack as a percentage of Pine affected within the VRI Stand
A8: MPB Attack Severity
C9: Light (<11%) | E9: Moderate (11-30%) | G9: Severe (31-50%) | I9: Very Severe (>50%) | K9: All Severity | M9: No Attack
A10: Age Class | B10: Pine Density | C10: Area (ha) | D10: Percent of all Pine (Pine Mask) | E10: Area (ha) | F10: Percent of all Pine (Pine Mask) | G10: Area (ha) | H10: Percent of all Pine (Pine Mask) | I10: Area (ha) | J10: Percent of all Pine (Pine Mask) | K10: Total Area of Attack (ha) | L10: Percent of all Pine (Pine Mask) | M10: Area (ha) | N10: Percent of all Pine (Pine Mask)
A11: 21-40 years | B11: 30-70% | C11: {=SUM(IF(data!A2:A200="21-40 years",IF(data!B2:B200="30-70%",IF(data!C2:C200="Light (<11%)",data!D2:D200,0),0),0))} -> 1296.5654 | D11: =C11/($K$20+$M$20) -> 0.0043067325 | E11: {=SUM(IF(data!A2:A200="21-40 years",IF(data!B2:B200="30-70%",IF(data!C2:C200="Moderate (11-30%)",data!D2:D200,0),0),0))} -> 895.65257 | F11: =E11/($K$20+$M$20) -> 0.0029750417 | G11: {=SUM(IF(data!A2:A200="21-40 years",IF(data!B2:B200="30-70%",IF(data!C2:C200="Severe (31-50%)",data!D2:D200,0),0),0))} -> 327.91935 | H11: =G11/($K$20+$M$20) -> 0.0010892323 | I11: {=SUM(IF(data!A2:A200="21-40 years",IF(data!B2:B200="30-70%",IF(data!C2:C200="Very Severe (>50%)",data!D2:D200,0),0),0))} -> 405.22787 | J11: =I11/($K$20+$M$20) -> 0.001346024 | K11: =SUM(C11,E11,G11,I11) -> 2925.3651 | L11: =K11/($K$20+$M$20) -> 0.0097170306 | M11: {=SUM(IF(data!A2:A200="21-40 years",IF(data!B2:B200="30-70%",IF(data!C2:C200="No Attack",data!D2:D200,0),0),0))} -> 2315.0213 | N11: =M11/($K$20+$M$20) -> 0.0076896838
B12: >70% | C12: {=SUM(IF(data!A2:A200="21-40 years",IF(data!B2:B200=">70%",IF(data!C2:C200="Light (<11%)",data!D2:D200,0),0),0))} -> 1028.575 | D12: =C12/($K$20+$M$20) -> 0.0034165632 | E12: {=SUM(IF(data!A2:A200="21-40 years",IF(data!B2:B200=">70%",IF(data!C2:C200="Moderate (11-30%)",data!D2:D200,0),0),0))} -> 736.39686 | F12: =E12/($K$20+$M$20) -> 0.0024460505 | G12: {=SUM(IF(data!A2:A200="21-40 years",IF(data!B2:B200=">70%",IF(data!C2:C200="Severe (31-50%)",data!D2:D200,0),0),0))} -> 431.98943 | H12: =G12/($K$20+$M$20) -> 0.0014349164 | I12: {=SUM(IF(data!A2:A200="21-40 years",IF(data!B2:B200=">70%",IF(data!C2:C200="Very Severe (>50%)",data!D2:D200,0),0),0))} -> 798.2603 | J12: =I12/($K$20+$M$20) -> 0.002651539 | K12: =SUM(C12,E12,G12,I12) -> 2995.2216 | L12: =K12/($K$20+$M$20) -> 0.009949069 | M12: {=SUM(IF(data!A2:A200="21-40 years",IF(data!B2:B200=">70%",IF(data!C2:C200="No Attack",data!D2:D200,0),0),0))} -> 1866.2578 | N12: =M12/($K$20+$M$20) -> 0.0061990499
A14: 41-60 years | B14: 30-70% | C14: {=SUM(IF(data!A2:A200="41-60 years",IF(data!B2:B200="30-70%",IF(data!C2:C200="Light (<11%)",data!D2:D200,0),0),0))} -> 99.968972 | D14: =C14/($K$20+$M$20) -> 0.00033206164 | E14: {=SUM(IF(data!A2:A200="41-60 years",IF(data!B2:B200="30-70%",IF(data!C2:C200="Moderate (11-30%)",data!D2:D200,0),0),0))} -> 595.29099 | F14: =E14/($K$20+$M$20) -> 0.0019773466 | G14: {=SUM(IF(data!A2:A200="41-60 years",IF(data!B2:B200="30-70%",IF(data!C2:C200="Severe (31-50%)",data!D2:D200,0),0),0))} -> 308.83812 | H14: =G14/($K$20+$M$20) -> 0.0010258512 | I14: {=SUM(IF(data!A2:A200="41-60 years",IF(data!B2:B200="30-70%",IF(data!C2:C200="Very Severe (>50%)",data!D2:D200,0),0),0))} -> 713.56262 | J14: =I14/($K$20+$M$20) -> 0.0023702032 | K14: =SUM(C14,E14,G14,I14) -> 1717.6607 | L14: =K14/($K$20+$M$20) -> 0.0057054626 | M14: {=SUM(IF(data!A2:A200="41-60 years",IF(data!B2:B200="30-70%",IF(data!C2:C200="No Attack",data!D2:D200,0),0),0))} -> 472.42213 | N14: =M14/($K$20+$M$20) -> 0.0015692196
B15: >70% | C15: {=SUM(IF(data!A2:A200="41-60 years",IF(data!B2:B200=">70%",IF(data!C2:C200="Light (<11%)",data!D2:D200,0),0),0))} -> 240.42707 | D15: =C15/($K$20+$M$20) -> 0.00079861389 | E15: {=SUM(IF(data!A2:A200="41-60 years",IF(data!B2:B200=">70%",IF(data!C2:C200="Moderate (11-30%)",data!D2:D200,0),0),0))} -> 361.81723 | F15: =E15/($K$20+$M$20) -> 0.0012018292 | G15: {=SUM(IF(data!A2:A200="41-60 years",IF(data!B2:B200=">70%",IF(data!C2:C200="Severe (31-50%)",data!D2:D200,0),0),0))} -> 258.11575 | H15: =G15/($K$20+$M$20) -> 0.00085736943 | I15: {=SUM(IF(data!A2:A200="41-60 years",IF(data!B2:B200=">70%",IF(data!C2:C200="Very Severe (>50%)",data!D2:D200,0),0),0))} -> 1038.6944 | J15: =I15/($K$20+$M$20) -> 0.0034501762 | K15: =SUM(C15,E15,G15,I15) -> 1899.0545 | L15: =K15/($K$20+$M$20) -> 0.0063079887 | M15: {=SUM(IF(data!A2:A200="41-60 years",IF(data!B2:B200=">70%",IF(data!C2:C200="No Attack",data!D2:D200,0),0),0))} -> 339.721 | N15: =M15/($K$20+$M$20) -> 0.0011284333
A17: >60 years | B17: 30-70% | C17: {=SUM(IF(data!A2:A200=">60 years",IF(data!B2:B200="30-70%",IF(data!C2:C200="Light (<11%)",data!D2:D200,0),0),0))} -> 12874.949 | D17: =C17/($K$20+$M$20) -> 0.042766036 | E17: {=SUM(IF(data!A2:A200=">60 years",IF(data!B2:B200="30-70%",IF(data!C2:C200="Moderate (11-30%)",data!D2:D200,0),0),0))} -> 16544.22 | F17: =E17/($K$20+$M$20) -> 0.054954062 | G17: {=SUM(IF(data!A2:A200=">60 years",IF(data!B2:B200="30-70%",IF(data!C2:C200="Severe (31-50%)",data!D2:D200,0),0),0))} -> 16847.932 | H17: =G17/($K$20+$M$20) -> 0.055962885 | I17: {=SUM(IF(data!A2:A200=">60 years",IF(data!B2:B200="30-70%",IF(data!C2:C200="Very Severe (>50%)",data!D2:D200,0),0),0))} -> 37559.927 | J17: =I17/($K$20+$M$20) -> 0.12476082 | K17: =SUM(C17,E17,G17,I17) -> 83827.029 | L17: =K17/($K$20+$M$20) -> 0.2784438 | M17: {=SUM(IF(data!A2:A200=">60 years",IF(data!B2:B200="30-70%",IF(data!C2:C200="No Attack",data!D2:D200,0),0),0))} -> 38316.413 | N17: =M17/($K$20+$M$20) -> 0.1272736
B18: >70% | C18: {=SUM(IF(data!A2:A200=">60 years",IF(data!B2:B200=">70%",IF(data!C2:C200="Light (<11%)",data!D2:D200,0),0),0))} -> 10993.317 | D18: =C18/($K$20+$M$20) -> 0.036515918 | E18: {=SUM(IF(data!A2:A200=">60 years",IF(data!B2:B200=">70%",IF(data!C2:C200="Moderate (11-30%)",data!D2:D200,0),0),0))} -> 18390.643 | F18: =E18/($K$20+$M$20) -> 0.061087227 | G18: {=SUM(IF(data!A2:A200=">60 years",IF(data!B2:B200=">70%",IF(data!C2:C200="Severe (31-50%)",data!D2:D200,0),0),0))} -> 26784.572 | H18: =G18/($K$20+$M$20) -> 0.088968894 | I18: {=SUM(IF(data!A2:A200=">60 years",IF(data!B2:B200=">70%",IF(data!C2:C200="Very Severe (>50%)",data!D2:D200,0),0),0))} -> 83077.197 | J18: =I18/($K$20+$M$20) -> 0.27595313 | K18: =SUM(C18,E18,G18,I18) -> 139245.73 | L18: =K18/($K$20+$M$20) -> 0.46252517 | M18: {=SUM(IF(data!A2:A200=">60 years",IF(data!B2:B200=">70%",IF(data!C2:C200="No Attack",data!D2:D200,0),0),0))} -> 25135.569 | N18: =M18/($K$20+$M$20) -> 0.08349149
A20: Total | C20: =SUM(C11:C18) -> 26533.802 | D20: =C20/($K$20+$M$20) -> 0.088135926 | E20: =SUM(E11:E18) -> 37524.021 | F20: =E20/($K$20+$M$20) -> 0.12464156 | G20: =SUM(G11:G18) -> 44959.367 | H20: =G20/($K$20+$M$20) -> 0.14933915 | I20: =SUM(I11:I18) -> 123592.87 | J20: =I20/($K$20+$M$20) -> 0.41053189 | K20: =SUM(K11:K18) -> 232610.06 | L20: =SUM(L11:L18) -> 0.77264852 | M20: =SUM(M11:M18) -> 68445.405 | N20: =SUM(N11:N18) -> 0.22735148

Sheet data
A1: Age Class | B1: Pine Density | C1: MPB Attack Severity | D1: Sum Of area_ha
A2: <21 years | B2: >70% | C2: Light (<11%) | D2: 753.45973
A3: <21 years | B3: >70% | C3: Light (<11%) | D3: 1668.539
A4: <21 years | B4: >70% | C4: Light (<11%) | D4: 102.26903
A5: <21 years | B5: >70% | C5: Moderate (11-30%) | D5: 421.61075
A6: <21 years | B6: >70% | C6: Moderate (11-30%) | D6: 1035.0144
A7: <21 years | B7: >70% | C7: No Attack | D7: 1851.3626
A8: <21 years | B8: >70% | C8: No Attack | D8: 542.48231
A9: <21 years | B9: >70% | C9: No Attack | D9: 231.88232
A10: <21 years | B10: >70% | C10: No Attack | D10: 71.317239
A11: <21 years | B11: >70% | C11: Severe (31-50%) | D11: 255.34334
A12: <21 years | B12: >70% | C12: Severe (31-50%) | D12: 363.13891
A13: <21 years | B13: >70% | C13: Severe (31-50%) | D13: 10.691982
... A123: 41-60 years | B123: 30-70% | C123: Very Severe (>50%) | D123: 13.062376

Sheet Sheet3
